BEGIN:VCALENDAR
VERSION:2.0
PRODID:-//Connecticut Forest and Park Association - ECPv6.15.20//NONSGML v1.0//EN
CALSCALE:GREGORIAN
METHOD:PUBLISH
X-ORIGINAL-URL:https://ctwoodlands.org
X-WR-CALDESC:Events for Connecticut Forest and Park Association
REFRESH-INTERVAL;VALUE=DURATION:PT1H
X-Robots-Tag:noindex
X-PUBLISHED-TTL:PT1H
BEGIN:VTIMEZONE
TZID:America/New_York
BEGIN:DAYLIGHT
TZOFFSETFROM:-0500
TZOFFSETTO:-0400
TZNAME:EDT
DTSTART:20250309T070000
END:DAYLIGHT
BEGIN:STANDARD
TZOFFSETFROM:-0400
TZOFFSETTO:-0500
TZNAME:EST
DTSTART:20251102T060000
END:STANDARD
BEGIN:DAYLIGHT
TZOFFSETFROM:-0500
TZOFFSETTO:-0400
TZNAME:EDT
DTSTART:20260308T070000
END:DAYLIGHT
BEGIN:STANDARD
TZOFFSETFROM:-0400
TZOFFSETTO:-0500
TZNAME:EST
DTSTART:20261101T060000
END:STANDARD
BEGIN:DAYLIGHT
TZOFFSETFROM:-0500
TZOFFSETTO:-0400
TZNAME:EDT
DTSTART:20270314T070000
END:DAYLIGHT
BEGIN:STANDARD
TZOFFSETFROM:-0400
TZOFFSETTO:-0500
TZNAME:EST
DTSTART:20271107T060000
END:STANDARD
END:VTIMEZONE
BEGIN:VEVENT
DTSTART;TZID=America/New_York:20260604T170000
DTEND;TZID=America/New_York:20260604T190000
DTSTAMP:20260422T102622
CREATED:20260414T165201Z
LAST-MODIFIED:20260421T215241Z
UID:10000427-1780592400-1780599600@ctwoodlands.org
SUMMARY:Connecticut Trails Day Leader Summit
DESCRIPTION:Save the date!\nJoin Trails Day leaders from across the state on Thursday\, June 4th\, at Rule of 3 Brewing in East Hampton. We’ll have swag\, trivia\, a food truck\, and\, of course\, some great brews. More details and RSVP to follow. We hope to see you there!
URL:https://ctwoodlands.org/events-calendar/trails-day-leader-summit/
LOCATION:Rule of 3 Brewing\, 201 W High St b1\, East Hampton\, CT\, 06424\, United States
CATEGORIES:CT Trails Day,Leader Summit
ATTACH;FMTTYPE=image/png:https://ctwoodlands.org/wp-content/uploads/2026/04/2026-Trails-Day-Logo-Pattern_DIGITAL_RGB_72ppi_1200x960px.png
ORGANIZER;CN="Connecticut Forest & Park Association":MAILTO:info@ctwoodlands.org
GEO:41.5680592;-72.5309739
X-APPLE-STRUCTURED-LOCATION;VALUE=URI;X-ADDRESS=Rule of 3 Brewing 201 W High St b1 East Hampton CT 06424 United States;X-APPLE-RADIUS=500;X-TITLE=201 W High St b1:geo:-72.5309739,41.5680592
END:VEVENT
END:VCALENDAR