BEGIN:VCALENDAR
VERSION:2.0
PRODID:-//Connecticut Forest and Park Association - ECPv6.15.20//NONSGML v1.0//EN
CALSCALE:GREGORIAN
METHOD:PUBLISH
X-WR-CALNAME:Connecticut Forest and Park Association
X-ORIGINAL-URL:https://ctwoodlands.org
X-WR-CALDESC:Events for Connecticut Forest and Park Association
REFRESH-INTERVAL;VALUE=DURATION:PT1H
X-Robots-Tag:noindex
X-PUBLISHED-TTL:PT1H
BEGIN:VTIMEZONE
TZID:America/New_York
BEGIN:DAYLIGHT
TZOFFSETFROM:-0500
TZOFFSETTO:-0400
TZNAME:EDT
DTSTART:20250309T070000
END:DAYLIGHT
BEGIN:STANDARD
TZOFFSETFROM:-0400
TZOFFSETTO:-0500
TZNAME:EST
DTSTART:20251102T060000
END:STANDARD
BEGIN:DAYLIGHT
TZOFFSETFROM:-0500
TZOFFSETTO:-0400
TZNAME:EDT
DTSTART:20260308T070000
END:DAYLIGHT
BEGIN:STANDARD
TZOFFSETFROM:-0400
TZOFFSETTO:-0500
TZNAME:EST
DTSTART:20261101T060000
END:STANDARD
BEGIN:DAYLIGHT
TZOFFSETFROM:-0500
TZOFFSETTO:-0400
TZNAME:EDT
DTSTART:20270314T070000
END:DAYLIGHT
BEGIN:STANDARD
TZOFFSETFROM:-0400
TZOFFSETTO:-0500
TZNAME:EST
DTSTART:20271107T060000
END:STANDARD
END:VTIMEZONE
BEGIN:VEVENT
DTSTART;TZID=America/New_York:20260207T070000
DTEND;TZID=America/New_York:20260207T220000
DTSTAMP:20260424T090350
CREATED:20251215T145834Z
LAST-MODIFIED:20251215T145849Z
UID:10000387-1770447600-1770501600@ctwoodlands.org
SUMMARY:Frozen Heart 15 Hour Trail Race at Highlawn
DESCRIPTION:This is a simple\, low-cost\, unsupported winter ultra for runners who enjoy long days\, cold weather\, and good company. The challenge: run up to 50 miles over 15 hours (900 minutes) in classic New England winter conditions. \nRegistration includes a suggested $20 donation to the Connecticut Forest & Park Association (CFPA). Please sign up only if you truly plan to participate. \nThe event will be based at CFPA headquarters in Rockfall (Middlefield)\, CT. Runners will have access to a heated meeting room with real bathrooms\, a full kitchen\, coffee\, hot water\, and space to stash a small amount of personal gear (one tote or duffel). \nParking is very limited (15 spaces). A nearby commuter lot is available\, and carpooling is required—at least two runners per vehicle. \nAid is minimal: s’mores outside over a Solo Stove. Bring all food and supplies you’ll need. The event is cupless. No crews. \nCome for the miles\, stay for the winter adventure. → Click here to register. ←
URL:https://ctwoodlands.org/events-calendar/frozen-heart-15-hour-trail-race-at-highlawn/
LOCATION:Connecticut Forest & Park Association\, 16 Meriden Road\, Middlefield\, CT\, 06481\, United States
CATEGORIES:Fundraiser,Games,Trail Running
ATTACH;FMTTYPE=image/jpeg:https://ctwoodlands.org/wp-content/uploads/2025/12/163a7d86-0645-443c-8908-229f62a94337.jpg
ORGANIZER;CN="Linda Pierce":MAILTO:lpierce@ctwoodlands.org
GEO:41.5492789;-72.6962767
X-APPLE-STRUCTURED-LOCATION;VALUE=URI;X-ADDRESS=Connecticut Forest & Park Association 16 Meriden Road Middlefield CT 06481 United States;X-APPLE-RADIUS=500;X-TITLE=16 Meriden Road:geo:-72.6962767,41.5492789
END:VEVENT
END:VCALENDAR