BEGIN:VCALENDAR
VERSION:2.0
PRODID:-//Connecticut Forest and Park Association - ECPv6.15.20//NONSGML v1.0//EN
CALSCALE:GREGORIAN
METHOD:PUBLISH
X-ORIGINAL-URL:https://ctwoodlands.org
X-WR-CALDESC:Events for Connecticut Forest and Park Association
REFRESH-INTERVAL;VALUE=DURATION:PT1H
X-Robots-Tag:noindex
X-PUBLISHED-TTL:PT1H
BEGIN:VTIMEZONE
TZID:America/New_York
BEGIN:DAYLIGHT
TZOFFSETFROM:-0500
TZOFFSETTO:-0400
TZNAME:EDT
DTSTART:20250309T070000
END:DAYLIGHT
BEGIN:STANDARD
TZOFFSETFROM:-0400
TZOFFSETTO:-0500
TZNAME:EST
DTSTART:20251102T060000
END:STANDARD
BEGIN:DAYLIGHT
TZOFFSETFROM:-0500
TZOFFSETTO:-0400
TZNAME:EDT
DTSTART:20260308T070000
END:DAYLIGHT
BEGIN:STANDARD
TZOFFSETFROM:-0400
TZOFFSETTO:-0500
TZNAME:EST
DTSTART:20261101T060000
END:STANDARD
BEGIN:DAYLIGHT
TZOFFSETFROM:-0500
TZOFFSETTO:-0400
TZNAME:EDT
DTSTART:20270314T070000
END:DAYLIGHT
BEGIN:STANDARD
TZOFFSETFROM:-0400
TZOFFSETTO:-0500
TZNAME:EST
DTSTART:20271107T060000
END:STANDARD
END:VTIMEZONE
BEGIN:VEVENT
DTSTART;TZID=America/New_York:20260219T180000
DTEND;TZID=America/New_York:20260219T203000
DTSTAMP:20260421T080213
CREATED:20260107T223249Z
LAST-MODIFIED:20260219T163341Z
UID:10000398-1771524000-1771533000@ctwoodlands.org
SUMMARY:The Endurance Artist: An Evening with Author Jared Beasley
DESCRIPTION:Join CFPA and the CT Trailmixers for a special evening with author Jared Beasley for a slideshow\, reading\, and meet-the-author event centered on his book\, The Endurance Artist: Lazarus Lake\, the Barkley & a Race with No End. \nThe program will take place at CFPA’s Meeting Room. Light refreshments and drinks will be available. Bad weather date: Friday\, February 20. \nIn The Endurance Artist\, Beasley takes readers deep into the strange and compelling world of the Barkley Marathons—an infamous ultrarunning event created by the enigmatic Lazarus Lake. Known for its brutal terrain\, cryptic rules\, and astonishingly low finish rate\, the Barkley has become a proving ground for endurance athletes and a meditation on the limits of human perseverance. Beasley weaves together history\, firsthand reporting\, and cultural insight to explore why runners are drawn to a race that seems designed to defeat them. \nJared Beasley is an accomplished writer and journalist whose work focuses on endurance sports\, resilience\, and the psychology of extreme challenges. A longtime ultrarunning observer and participant\, Beasley brings a thoughtful\, narrative-driven approach to his storytelling\, blending athletic achievement with deeper questions about motivation\, suffering\, and meaning. \nThis evening offers a rare opportunity to hear directly from the author\, see visuals from the world of the Barkley\, and engage in conversation about one of the most fascinating endurance events on the planet.
URL:https://ctwoodlands.org/events-calendar/the-endurance-artist-an-evening-with-author-jared-beasley/
LOCATION:Connecticut Forest & Park Association\, 16 Meriden Road\, Middlefield\, CT\, 06481\, United States
CATEGORIES:Presentation
ORGANIZER;CN="Connecticut Forest & Park Association":MAILTO:info@ctwoodlands.org
GEO:41.5492789;-72.6962767
X-APPLE-STRUCTURED-LOCATION;VALUE=URI;X-ADDRESS=Connecticut Forest & Park Association 16 Meriden Road Middlefield CT 06481 United States;X-APPLE-RADIUS=500;X-TITLE=16 Meriden Road:geo:-72.6962767,41.5492789
END:VEVENT
END:VCALENDAR